BEGIN:VCALENDAR
VERSION:2.0
PRODID:-//Stratis iCal API//FR
CALSCALE:GREGORIAN
X-WR-CALNAME:Concert hors les murs
BEGIN:VEVENT
UID:event-16818
SUMMARY:Concert hors les murs
DESCRIPTION:École de musique intercommunale de Saint Romain de Colbosc et Fontenayphonie propose un concert à l'église Saint Michel de Fontenay le samedi 30 avril à 18h 30.   Réservation auprès de l'école de musique intercommunale. tel 02 35 20 04 93
DTSTAMP:20220315T085911Z
DTSTART:20220430T163000Z
DTEND:20220430T163000Z
STATUS:CONFIRMED
SEQUENCE:3
BEGIN:VALARM
TRIGGER:-PT30M
DESCRIPTION:Concert hors les murs
ACTION:DISPLAY
END:VALARM
END:VEVENT
END:VCALENDAR